BEGIN:VCALENDAR
VERSION:2.0
PRODID:-//hacksw/handcal//NONSGML v1.0//EN
BEGIN:VEVENT
SUMMARY:INTERCLUB MORESTEL 2026
UID:375af8f6-59d3-4c23-b598-0278ed0ab786
DTSTART:20260502T220000Z
DTEND:20260503T220000Z
LOCATION:Localisation   
CATEGORIES:Sportif
STATUS:
URL;VALUE=URI:https://www.judoclubchamagnieu.com/evenements/2026/05/03/interclub-morestel-2026-2443983
END:VEVENT
END:VCALENDAR
