BEGIN:VCALENDAR
VERSION:2.0
PRODID:-//hacksw/handcal//NONSGML v1.0//EN
BEGIN:VEVENT
SUMMARY:INTERCLUB CREMIEU 2026
UID:e7e61348-7df9-44ab-ad4c-cf8843acfa66
DTSTART:20260523T220000Z
DTEND:20260524T220000Z
LOCATION:Localisation   
CATEGORIES:Sportif
STATUS:
URL;VALUE=URI:https://www.judoclubchamagnieu.com/evenements/2026/05/24/interclub-cremieu-2026-2443991
END:VEVENT
END:VCALENDAR
